BEGIN:VCALENDAR
VERSION:2.0
PRODID:-//Diabetes Schulungszentrum Aschaffenburg - ECPv5.9.0//NONSGML v1.0//EN
CALSCALE:GREGORIAN
METHOD:PUBLISH
X-WR-CALNAME:Diabetes Schulungszentrum Aschaffenburg
X-ORIGINAL-URL:https://www.diabetes-schulungszentrum-aschaffenburg.de
X-WR-CALDESC:Veranstaltungen für Diabetes Schulungszentrum Aschaffenburg
BEGIN:VTIMEZONE
TZID:Europe/Berlin
BEGIN:DAYLIGHT
TZOFFSETFROM:+0100
TZOFFSETTO:+0200
TZNAME:CEST
DTSTART:20210328T010000
END:DAYLIGHT
BEGIN:STANDARD
TZOFFSETFROM:+0200
TZOFFSETTO:+0100
TZNAME:CET
DTSTART:20211031T010000
END:STANDARD
END:VTIMEZONE
BEGIN:VEVENT
DTSTART;TZID=Europe/Berlin:20210518T170000
DTEND;TZID=Europe/Berlin:20210518T200000
DTSTAMP:20260419T153221
CREATED:20210208T103234Z
LAST-MODIFIED:20210208T103234Z
UID:6071-1621357200-1621368000@www.diabetes-schulungszentrum-aschaffenburg.de
SUMMARY:Diabetes-Schulung // Typ 1 Diabetes // PRIMAS
DESCRIPTION:Strukturierte Schulung für Menschen mit Typ 1 Diabetes \nSchulungstermine: \n\n\n\nWochentag\nDatum\nUhrzeit\n\n\nDienstag\n18.05.2021\n17:00 – 20:00 Uhr\n\n\nDienstag\n25.05.2021\n17:00 – 20:00 Uhr\n\n\nDienstag\n01.06.2021\n17:00 – 20:00 Uhr\n\n\nDienstag\n08.06.2021\n17:00 – 20:00 Uhr\n\n\nDienstag\n15.06.2021\n17:00 – 20:00 Uhr\n\n\nDienstag\n22.06.2021\n17:00 – 20:00 Uhr\n\n\n\nBesonderheiten:\nDiese Schulung findet abends in einer Kurseinheit pro Woche à 3 Stunden über 6 Wochen statt
URL:https://www.diabetes-schulungszentrum-aschaffenburg.de/termin/diabetes-schulung-typ-1-diabetes-primas-41/
LOCATION:Diabetes Schulungszentrum Aschaffenburg\, Elisenstraße 26\, Aschaffenburg\, 63739\, Deutschland
CATEGORIES:Schulungen
ATTACH;FMTTYPE=image/jpeg:https://www.diabetes-schulungszentrum-aschaffenburg.de/wp-content/uploads/2015/05/mit-diabetes-leben-lernen.jpg
ORGANIZER;CN="Anja%20Henze":MAILTO:an@klausmann.de
GEO:49.9798821;9.1471233
X-APPLE-STRUCTURED-LOCATION;VALUE=URI;X-ADDRESS=Diabetes Schulungszentrum Aschaffenburg Elisenstraße 26 Aschaffenburg 63739 Deutschland;X-APPLE-RADIUS=500;X-TITLE=Elisenstraße 26:geo:9.1471233,49.9798821
END:VEVENT
END:VCALENDAR